BEGIN:VCALENDAR
VERSION:2.0
PRODID:-//Westtor-Shop - ECPv6.15.20//NONSGML v1.0//EN
CALSCALE:GREGORIAN
METHOD:PUBLISH
X-ORIGINAL-URL:https://shop.westtor.de
X-WR-CALDESC:Veranstaltungen für Westtor-Shop
REFRESH-INTERVAL;VALUE=DURATION:PT1H
X-Robots-Tag:noindex
X-PUBLISHED-TTL:PT1H
BEGIN:VTIMEZONE
TZID:Europe/Berlin
BEGIN:DAYLIGHT
TZOFFSETFROM:+0100
TZOFFSETTO:+0200
TZNAME:CEST
DTSTART:20210328T010000
END:DAYLIGHT
BEGIN:STANDARD
TZOFFSETFROM:+0200
TZOFFSETTO:+0100
TZNAME:CET
DTSTART:20211031T010000
END:STANDARD
BEGIN:DAYLIGHT
TZOFFSETFROM:+0100
TZOFFSETTO:+0200
TZNAME:CEST
DTSTART:20220327T010000
END:DAYLIGHT
BEGIN:STANDARD
TZOFFSETFROM:+0200
TZOFFSETTO:+0100
TZNAME:CET
DTSTART:20221030T010000
END:STANDARD
BEGIN:DAYLIGHT
TZOFFSETFROM:+0100
TZOFFSETTO:+0200
TZNAME:CEST
DTSTART:20230326T010000
END:DAYLIGHT
BEGIN:STANDARD
TZOFFSETFROM:+0200
TZOFFSETTO:+0100
TZNAME:CET
DTSTART:20231029T010000
END:STANDARD
END:VTIMEZONE
BEGIN:VEVENT
DTSTART;TZID=Europe/Berlin:20221111T200000
DTEND;TZID=Europe/Berlin:20221111T223000
DTSTAMP:20260425T172127
CREATED:20221101T131833Z
LAST-MODIFIED:20221101T131833Z
UID:3248-1668196800-1668205800@shop.westtor.de
SUMMARY:Stray Colors
DESCRIPTION:Harmoniegesang mit melodischer Tiefe erfrischend handgemacht \nZu ihrem 10-jährigen Bandjubiläum besinnen sich Stray Colors wieder voll auf ihren unverkennbaren Harmoniegesang\, der der Band in der Vergangenheit schon häufig Vergleiche mit Simon & Garfunkel oder Fleet Foxes einbrachte. Das aktuelle Album Wolf & Bear des Quintetts aus München rund um die Masterminds Zlatko Pasalic und Rüdiger Sinn besticht durch seine organische Ehrlichkeit und seine melodische Tiefe. Gleichzeitig wagt ihr neuer Longplayer eine musikalische Reise\, experimentiert mit aufwändigen String-Arrangements einerseits und berührt im nächsten Moment wieder durch seine Nahbarkeit und die konsequente Reduktion auf die Essenz Ihrer Musik. Oder mit anderen Worten: Etwas derart Erfrischendes\, Handgemachtes ohne künstlichen Zuckerzusatz hat man lange nicht mehr aufsaugen dürfen. \nwww.straycolors.de  \nhttps://www.youtube.com/watch?v=WJwGncEU78g \n 
URL:https://shop.westtor.de/event/stray-colors/
LOCATION:Westtorhalle\, Prof-Becker-Weg 12\, Seehausen\, Bayern\, 82418\, Deutschland
END:VEVENT
END:VCALENDAR