BEGIN:VCALENDAR
VERSION:2.0
PRODID:-//Westtor-Shop - ECPv6.15.20//NONSGML v1.0//EN
CALSCALE:GREGORIAN
METHOD:PUBLISH
X-ORIGINAL-URL:https://shop.westtor.de
X-WR-CALDESC:Veranstaltungen für Westtor-Shop
REFRESH-INTERVAL;VALUE=DURATION:PT1H
X-Robots-Tag:noindex
X-PUBLISHED-TTL:PT1H
BEGIN:VTIMEZONE
TZID:Europe/Berlin
BEGIN:DAYLIGHT
TZOFFSETFROM:+0100
TZOFFSETTO:+0200
TZNAME:CEST
DTSTART:20210328T010000
END:DAYLIGHT
BEGIN:STANDARD
TZOFFSETFROM:+0200
TZOFFSETTO:+0100
TZNAME:CET
DTSTART:20211031T010000
END:STANDARD
BEGIN:DAYLIGHT
TZOFFSETFROM:+0100
TZOFFSETTO:+0200
TZNAME:CEST
DTSTART:20220327T010000
END:DAYLIGHT
BEGIN:STANDARD
TZOFFSETFROM:+0200
TZOFFSETTO:+0100
TZNAME:CET
DTSTART:20221030T010000
END:STANDARD
BEGIN:DAYLIGHT
TZOFFSETFROM:+0100
TZOFFSETTO:+0200
TZNAME:CEST
DTSTART:20230326T010000
END:DAYLIGHT
BEGIN:STANDARD
TZOFFSETFROM:+0200
TZOFFSETTO:+0100
TZNAME:CET
DTSTART:20231029T010000
END:STANDARD
END:VTIMEZONE
BEGIN:VEVENT
DTSTART;TZID=Europe/Berlin:20221119T200000
DTEND;TZID=Europe/Berlin:20221119T223000
DTSTAMP:20260425T172229
CREATED:20221101T165622Z
LAST-MODIFIED:20221101T165622Z
UID:3253-1668888000-1668897000@shop.westtor.de
SUMMARY:Basson Laubscher and The Violent Free Peace (Südafrika) - International Corner
DESCRIPTION:some face-melting guitars\, foot-stomping grooves \nDubbed South Africa’s Rory Gallagher\, Basson Laubscher is one talented musician. Born and raised in Stellenbosch\, Basson fell in love with music. At the tender age of 10 he started playing guitar and has never looked back. During his high school career he met fellow band member Bertie Coetzee and helped form one of South Africa’s most loved bands\, Zinkplaat who performed at all of South Africa’s most loved festivals for over 10 years. \nAfter the band split\, Basson knew he had to pursue music further and thus The Violent Free Peace was born\, with a passion for Blues Rock. \nThe Violent Free Peace have released two albums to date: With their first EP titled Shakedown and their more recent release titled Testify\, which will no doubt have you believing in a higher power of good old school boogie. \nThis is one band you don’t want to miss live\, because every show is a truly unique experience with some face-melting guitars\, foot-stomping grooves and a crowd that goes wild from start to finish. \nhttps://www.bassonlaubscher.com/  \nhttps://www.youtube.com/watch?v=Kap3ODo1_d8 \nPlus Special Guest Nick Passey & Aria Darling \nNick Passey & Aria Darling is an Americana/Folk duo from Salt Lake City\, Utah\, USA. The pair harmonize vocals while Passey plays guitar and Darling plays mandolin. In 2022\, they released a live video of their single\, „Don’t Know How I’m Feeling.“ This performance showcases this pair’s dynamic and how they complement each other\, providing the poignant undertones that the lyrics suggest. Their live set also lends itself to this soul-stirring mood\, creating an atmosphere that keeps the audience transfixed\, engaged\, and in awe. \nhttps://www.youtube.com/watch?v=TCZxJNZC6xA
URL:https://shop.westtor.de/event/basson-laubscher-and-the-violent-free-peace-suedafrika-international-corner/
LOCATION:Westtorhalle\, Prof-Becker-Weg 12\, Seehausen\, Bayern\, 82418\, Deutschland
END:VEVENT
END:VCALENDAR