BEGIN:VCALENDAR
VERSION:2.0
PRODID:-//Westtor-Shop - ECPv6.15.20//NONSGML v1.0//EN
CALSCALE:GREGORIAN
METHOD:PUBLISH
X-ORIGINAL-URL:https://shop.westtor.de
X-WR-CALDESC:Veranstaltungen für Westtor-Shop
REFRESH-INTERVAL;VALUE=DURATION:PT1H
X-Robots-Tag:noindex
X-PUBLISHED-TTL:PT1H
BEGIN:VTIMEZONE
TZID:Europe/Berlin
BEGIN:DAYLIGHT
TZOFFSETFROM:+0100
TZOFFSETTO:+0200
TZNAME:CEST
DTSTART:20210328T010000
END:DAYLIGHT
BEGIN:STANDARD
TZOFFSETFROM:+0200
TZOFFSETTO:+0100
TZNAME:CET
DTSTART:20211031T010000
END:STANDARD
BEGIN:DAYLIGHT
TZOFFSETFROM:+0100
TZOFFSETTO:+0200
TZNAME:CEST
DTSTART:20220327T010000
END:DAYLIGHT
BEGIN:STANDARD
TZOFFSETFROM:+0200
TZOFFSETTO:+0100
TZNAME:CET
DTSTART:20221030T010000
END:STANDARD
BEGIN:DAYLIGHT
TZOFFSETFROM:+0100
TZOFFSETTO:+0200
TZNAME:CEST
DTSTART:20230326T010000
END:DAYLIGHT
BEGIN:STANDARD
TZOFFSETFROM:+0200
TZOFFSETTO:+0100
TZNAME:CET
DTSTART:20231029T010000
END:STANDARD
END:VTIMEZONE
BEGIN:VEVENT
DTSTART;TZID=Europe/Berlin:20221203T200000
DTEND;TZID=Europe/Berlin:20221203T230000
DTSTAMP:20260425T153430
CREATED:20221005T111508Z
LAST-MODIFIED:20221101T110205Z
UID:3169-1670097600-1670108400@shop.westtor.de
SUMMARY:Keimzeit
DESCRIPTION:Samstag\, 03. Dezember 2022 | Einlass ab 20:00 Uhr\, Beginn ab ca. 20:30 Uhr \nSinger-Songwriter-Rock mit Geschichte \nKeimzeit ist heuer 40 Jahre alt geworden. Zur Feier des Jubiläums hat die Band mit „Kein Fiasko“ ein neues Album aufgenommen\, das all das zusammenfügt\, was Keimzeit in vier Jahrzehnten zu einer Institution der anspruchsvolleren deutschen Singer-Songwriter Gilde gemacht hat: Rockiger Grundton mit kleinen Ausflügen in Nachbar-Genres\, poetische Texte\, die den Alltag sezieren und eigene Erfahrungen verdichten. Auch die aus der Corona-Krise. „Ich hatte viel Zeit mich an neue Songs zu setzen\, kreativ an Texten und Melodien zu tüfteln“\, sagt Frontmann Norbert Leisegang. \nLive gibt es das neue Album gemischt mit glitzernden Diamanten\, verrückten Flugzeugen und weiterem Kling-Klang aus 40 Jahren. Es wird ein Fest! \nhttps://www.keimzeit.de \nEintritt: 28 € / 22 € (ermaessigt)
URL:https://shop.westtor.de/event/keimzeit/
LOCATION:Westtorhalle\, Prof-Becker-Weg 12\, Seehausen\, Bayern\, 82418\, Deutschland
END:VEVENT
END:VCALENDAR