BEGIN:VCALENDAR
VERSION:2.0
PRODID:-//Westtor-Shop - ECPv6.15.20//NONSGML v1.0//EN
CALSCALE:GREGORIAN
METHOD:PUBLISH
X-WR-CALNAME:Westtor-Shop
X-ORIGINAL-URL:https://shop.westtor.de
X-WR-CALDESC:Veranstaltungen für Westtor-Shop
REFRESH-INTERVAL;VALUE=DURATION:PT1H
X-Robots-Tag:noindex
X-PUBLISHED-TTL:PT1H
BEGIN:VTIMEZONE
TZID:Europe/Berlin
BEGIN:DAYLIGHT
TZOFFSETFROM:+0100
TZOFFSETTO:+0200
TZNAME:CEST
DTSTART:20210328T010000
END:DAYLIGHT
BEGIN:STANDARD
TZOFFSETFROM:+0200
TZOFFSETTO:+0100
TZNAME:CET
DTSTART:20211031T010000
END:STANDARD
BEGIN:DAYLIGHT
TZOFFSETFROM:+0100
TZOFFSETTO:+0200
TZNAME:CEST
DTSTART:20220327T010000
END:DAYLIGHT
BEGIN:STANDARD
TZOFFSETFROM:+0200
TZOFFSETTO:+0100
TZNAME:CET
DTSTART:20221030T010000
END:STANDARD
BEGIN:DAYLIGHT
TZOFFSETFROM:+0100
TZOFFSETTO:+0200
TZNAME:CEST
DTSTART:20230326T010000
END:DAYLIGHT
BEGIN:STANDARD
TZOFFSETFROM:+0200
TZOFFSETTO:+0100
TZNAME:CET
DTSTART:20231029T010000
END:STANDARD
END:VTIMEZONE
BEGIN:VEVENT
DTSTART;TZID=Europe/Berlin:20221210T200000
DTEND;TZID=Europe/Berlin:20221210T223000
DTSTAMP:20260425T153034
CREATED:20221019T202840Z
LAST-MODIFIED:20221210T113803Z
UID:3213-1670702400-1670711400@shop.westtor.de
SUMMARY:Die chinesische Mauer. Eine Farce. +++AUSVERKAUFT+++
DESCRIPTION:Von Max Frisch \nDie Bühne bleibt Bühne. Wir erleben die Zeit des Ersten Erhabenen Kaisers\, Tsin Sche Hwang Ti\, genannt der Himmelssohn\, der immer im Recht ist. Zur Feier seiner Herrlichkeit sind allerhand historische Persönlichkeiten geladen. Der letzte Feind\, der sich seiner wahren und endgütigen Ordnung noch entgegenstellt ist die „Stimme des Volkes“\, die es unter allen Umständen zu vernichten gilt.\nEin Ereignis\, das aus heutiger Sicht genutzt werden will\, um mit Vernunft begreiflich zu machen\, dass Alleinherrschaft ein Abenteuer ist\, das wir uns nicht mehr leisten können. Zu bedrohlich sind die wissenschaftlichen Fortschritte und damit entstandenen Waffen- und Kontrollsysteme\, die den jeweiligen Herrschern zur Verfügung stehen. Zuviel Willkür obliegt ihrer Nutzung. Welches Risiko muss ein Heutiger eingehen\, damit die Vergangenheit der Gegenwart Gehör schenkt? Damit Vergangenheit nicht weiter Zukunft bleibt… \nMax Frisch präsentiert uns in seiner Tragikomödie die Geschichte als Kreislauf. Eine Dauerschleife\, die sich mit ihren absolutistischen Herrschern durch sämtliche Epochen zieht und unaufhörlich dem nächsten Terrorregime in den Schwanz beißt. Doch sind es wirklich wir\, die in dieser Dauerschleife leben\, oder ist es die Dauerschleife\, die in uns lebt? Welcher Intelligenz erlauben wir als nächstes die Herrschaft über uns? „Das ist das Großartige: Wir können\, was wir wollen\, und es fragt sich nur noch\, was wir wollen.“ \nDas Hometown Theater der Westtorhalle freut sich riesig\, zu einer neuen Inszenierung auf der hauseigenen Bühne einzuladen.
URL:https://shop.westtor.de/event/die-chinesische-mauer-eine-farce-3/
LOCATION:Westtorhalle\, Prof-Becker-Weg 12\, Seehausen\, Bayern\, 82418\, Deutschland
END:VEVENT
END:VCALENDAR