BEGIN:VCALENDAR
VERSION:2.0
PRODID:-//Westtor-Shop - ECPv6.15.20//NONSGML v1.0//EN
CALSCALE:GREGORIAN
METHOD:PUBLISH
X-WR-CALNAME:Westtor-Shop
X-ORIGINAL-URL:https://shop.westtor.de
X-WR-CALDESC:Veranstaltungen für Westtor-Shop
REFRESH-INTERVAL;VALUE=DURATION:PT1H
X-Robots-Tag:noindex
X-PUBLISHED-TTL:PT1H
BEGIN:VTIMEZONE
TZID:Europe/Berlin
BEGIN:DAYLIGHT
TZOFFSETFROM:+0100
TZOFFSETTO:+0200
TZNAME:CEST
DTSTART:20220327T010000
END:DAYLIGHT
BEGIN:STANDARD
TZOFFSETFROM:+0200
TZOFFSETTO:+0100
TZNAME:CET
DTSTART:20221030T010000
END:STANDARD
BEGIN:DAYLIGHT
TZOFFSETFROM:+0100
TZOFFSETTO:+0200
TZNAME:CEST
DTSTART:20230326T010000
END:DAYLIGHT
BEGIN:STANDARD
TZOFFSETFROM:+0200
TZOFFSETTO:+0100
TZNAME:CET
DTSTART:20231029T010000
END:STANDARD
BEGIN:DAYLIGHT
TZOFFSETFROM:+0100
TZOFFSETTO:+0200
TZNAME:CEST
DTSTART:20240331T010000
END:DAYLIGHT
BEGIN:STANDARD
TZOFFSETFROM:+0200
TZOFFSETTO:+0100
TZNAME:CET
DTSTART:20241027T010000
END:STANDARD
END:VTIMEZONE
BEGIN:VEVENT
DTSTART;TZID=Europe/Berlin:20230120T203000
DTEND;TZID=Europe/Berlin:20230120T223000
DTSTAMP:20260425T134826
CREATED:20221119T095602Z
LAST-MODIFIED:20221119T095602Z
UID:3331-1674246600-1674253800@shop.westtor.de
SUMMARY:Bittersweethearts and Skratchwork
DESCRIPTION:Bittersweethearts  \nist eine aufregende neue Band aus Südkalifornien\, USA. Angeführt von der bezaubernden und melodiösen Zoe Infante\, die mit Declan O’Raidy (Lead-Gitarre/Co-Autor/Produzent) zusammenarbeitet\, bringen sie ätherische Tarantino-eske Rock-Vibes mit einem Hauch von Blondie\, die in einer Hintergasse hinter dem CBGB’s in Manhattan’s East Village einen Cocktail mit Mazzy Star mixen\, garniert mit einer Prise Shirley Manson. \nhttps://bittersweetheartsband.com/ \nhttps://www.youtube.com/watch?v=c0_zAjPfYyc \nSkratchwork \nSupport von The Bittersweethearts \nBei der Münchner Band Skratchwork entsteht das Gefühl einer abklingenden Erkältung\, während draußen langsam der Frühling beginnt. Die Songs des Quartetts rund um Sängerin Tanja Lerchl beschäftigen sich mit der Verlorenheit der Generation Y und zelebrieren krachend das Scheitern. Basierend auf klassischem Indie-Rock\, formen Klangästhetiken der 60er Jahre und des Britpops ihren zugleich nostalgischen und modernen Sound. \nwww.skratchwork.de \nhttps://www.youtube.com/watch?v=NbKObfOlfN4 \n 
URL:https://shop.westtor.de/event/bittersweethearts-and-skratchwork/
LOCATION:Westtorhalle\, Prof-Becker-Weg 12\, Seehausen\, Bayern\, 82418\, Deutschland
END:VEVENT
END:VCALENDAR