BEGIN:VCALENDAR
VERSION:2.0
PRODID:-//Westtor-Shop - ECPv6.15.20//NONSGML v1.0//EN
CALSCALE:GREGORIAN
METHOD:PUBLISH
X-ORIGINAL-URL:https://shop.westtor.de
X-WR-CALDESC:Veranstaltungen für Westtor-Shop
REFRESH-INTERVAL;VALUE=DURATION:PT1H
X-Robots-Tag:noindex
X-PUBLISHED-TTL:PT1H
BEGIN:VTIMEZONE
TZID:Europe/Berlin
BEGIN:DAYLIGHT
TZOFFSETFROM:+0100
TZOFFSETTO:+0200
TZNAME:CEST
DTSTART:20220327T010000
END:DAYLIGHT
BEGIN:STANDARD
TZOFFSETFROM:+0200
TZOFFSETTO:+0100
TZNAME:CET
DTSTART:20221030T010000
END:STANDARD
BEGIN:DAYLIGHT
TZOFFSETFROM:+0100
TZOFFSETTO:+0200
TZNAME:CEST
DTSTART:20230326T010000
END:DAYLIGHT
BEGIN:STANDARD
TZOFFSETFROM:+0200
TZOFFSETTO:+0100
TZNAME:CET
DTSTART:20231029T010000
END:STANDARD
BEGIN:DAYLIGHT
TZOFFSETFROM:+0100
TZOFFSETTO:+0200
TZNAME:CEST
DTSTART:20240331T010000
END:DAYLIGHT
BEGIN:STANDARD
TZOFFSETFROM:+0200
TZOFFSETTO:+0100
TZNAME:CET
DTSTART:20241027T010000
END:STANDARD
END:VTIMEZONE
BEGIN:VEVENT
DTSTART;TZID=Europe/Berlin:20230121T200000
DTEND;TZID=Europe/Berlin:20230121T223000
DTSTAMP:20260425T135330
CREATED:20221113T112809Z
LAST-MODIFIED:20221113T112809Z
UID:3302-1674331200-1674340200@shop.westtor.de
SUMMARY:BUD SPENZER HEART CHOR
DESCRIPTION:Der Bud Spenzer Heart Chor aus München hat ausschließlich Lieder aus Filmen mit Bud Spencer und Terence Hill im Repertoire. \nEr setzt ein musikalisches Denkmal\, denn für einen Giganten wie Bud\, der im Juni 2016 starb\, kann es gar nicht genug Denkmäler geben. Bud hat nicht gedankenlos gekloppt\, sondern tat das mit klarer Botschaft: Die Starken für die Schwachen! Heute ist das keine Selbstverständlichkeit\, mehr denn je brauchen wir darum einen Bud Spencer\, der uns mit Herz\, Schnauze und Dampfhammer zeigt\, wie es gehen kann. Hätten wir doch alle so einen klaren moralischen Kompass wie Bud!
URL:https://shop.westtor.de/event/bud-spenzer-heart-chor/
LOCATION:Westtorhalle\, Prof-Becker-Weg 12\, Seehausen\, Bayern\, 82418\, Deutschland
END:VEVENT
END:VCALENDAR