BEGIN:VCALENDAR
VERSION:2.0
PRODID:-//Westtor-Shop - ECPv6.15.20//NONSGML v1.0//EN
CALSCALE:GREGORIAN
METHOD:PUBLISH
X-WR-CALNAME:Westtor-Shop
X-ORIGINAL-URL:https://shop.westtor.de
X-WR-CALDESC:Veranstaltungen für Westtor-Shop
REFRESH-INTERVAL;VALUE=DURATION:PT1H
X-Robots-Tag:noindex
X-PUBLISHED-TTL:PT1H
BEGIN:VTIMEZONE
TZID:Europe/Berlin
BEGIN:DAYLIGHT
TZOFFSETFROM:+0100
TZOFFSETTO:+0200
TZNAME:CEST
DTSTART:20230326T010000
END:DAYLIGHT
BEGIN:STANDARD
TZOFFSETFROM:+0200
TZOFFSETTO:+0100
TZNAME:CET
DTSTART:20231029T010000
END:STANDARD
BEGIN:DAYLIGHT
TZOFFSETFROM:+0100
TZOFFSETTO:+0200
TZNAME:CEST
DTSTART:20240331T010000
END:DAYLIGHT
BEGIN:STANDARD
TZOFFSETFROM:+0200
TZOFFSETTO:+0100
TZNAME:CET
DTSTART:20241027T010000
END:STANDARD
BEGIN:DAYLIGHT
TZOFFSETFROM:+0100
TZOFFSETTO:+0200
TZNAME:CEST
DTSTART:20250330T010000
END:DAYLIGHT
BEGIN:STANDARD
TZOFFSETFROM:+0200
TZOFFSETTO:+0100
TZNAME:CET
DTSTART:20251026T010000
END:STANDARD
END:VTIMEZONE
BEGIN:VEVENT
DTSTART;TZID=Europe/Berlin:20240113T203000
DTEND;TZID=Europe/Berlin:20240113T223000
DTSTAMP:20260423T170320
CREATED:20231114T134533Z
LAST-MODIFIED:20231114T134533Z
UID:6144-1705177800-1705185000@shop.westtor.de
SUMMARY:BLACK PATTI - Blues´n´Roots
DESCRIPTION:Eintritt:  20:00 Uhr   Beginn:  ca.  20:30 Uhr \nBlues´n´Roots\nBlack Patti – das sind Peter Crow C. und Ferdinand „Jelly Roll“ Kraemer. \nZweistimmig\, handgemacht und unzensiert erzählt das mehrfach prämierte Duo in seinen Songs Geschichten\, die das Leben schreibt.
URL:https://shop.westtor.de/event/black-patti-bluesnroots/
LOCATION:Westtorhalle\, Prof-Becker-Weg 12\, Seehausen\, Bayern\, 82418\, Deutschland
END:VEVENT
END:VCALENDAR