BEGIN:VCALENDAR
VERSION:2.0
PRODID:-//Westtor-Shop - ECPv6.15.20//NONSGML v1.0//EN
CALSCALE:GREGORIAN
METHOD:PUBLISH
X-ORIGINAL-URL:https://shop.westtor.de
X-WR-CALDESC:Veranstaltungen für Westtor-Shop
REFRESH-INTERVAL;VALUE=DURATION:PT1H
X-Robots-Tag:noindex
X-PUBLISHED-TTL:PT1H
BEGIN:VTIMEZONE
TZID:Europe/Berlin
BEGIN:DAYLIGHT
TZOFFSETFROM:+0100
TZOFFSETTO:+0200
TZNAME:CEST
DTSTART:20230326T010000
END:DAYLIGHT
BEGIN:STANDARD
TZOFFSETFROM:+0200
TZOFFSETTO:+0100
TZNAME:CET
DTSTART:20231029T010000
END:STANDARD
BEGIN:DAYLIGHT
TZOFFSETFROM:+0100
TZOFFSETTO:+0200
TZNAME:CEST
DTSTART:20240331T010000
END:DAYLIGHT
BEGIN:STANDARD
TZOFFSETFROM:+0200
TZOFFSETTO:+0100
TZNAME:CET
DTSTART:20241027T010000
END:STANDARD
BEGIN:DAYLIGHT
TZOFFSETFROM:+0100
TZOFFSETTO:+0200
TZNAME:CEST
DTSTART:20250330T010000
END:DAYLIGHT
BEGIN:STANDARD
TZOFFSETFROM:+0200
TZOFFSETTO:+0100
TZNAME:CET
DTSTART:20251026T010000
END:STANDARD
END:VTIMEZONE
BEGIN:VEVENT
DTSTART;TZID=Europe/Berlin:20240120T203000
DTEND;TZID=Europe/Berlin:20240120T223000
DTSTAMP:20260423T204332
CREATED:20231114T135242Z
LAST-MODIFIED:20240119T101107Z
UID:6148-1705782600-1705789800@shop.westtor.de
SUMMARY:KID EMPRESS - Independent Synthesizer Pop
DESCRIPTION:Eintritt:  20:00 Uhr   Beginn:  ca.  20:30 Uhr \nIndependent Synthesizer Pop \nMit „Kid Empress“ feiern vier Freunde die kreative Energie und die Kraft der Neugierde\, die sie durch das gemeinsame Jazz-Studium in Basel getragen hat.
URL:https://shop.westtor.de/event/kid-empress-independent-synthesizer-pop/
LOCATION:Westtorhalle\, Prof-Becker-Weg 12\, Seehausen\, Bayern\, 82418\, Deutschland
END:VEVENT
END:VCALENDAR