BEGIN:VCALENDAR
VERSION:2.0
PRODID:-//Westtor-Shop - ECPv6.15.20//NONSGML v1.0//EN
CALSCALE:GREGORIAN
METHOD:PUBLISH
X-WR-CALNAME:Westtor-Shop
X-ORIGINAL-URL:https://shop.westtor.de
X-WR-CALDESC:Veranstaltungen für Westtor-Shop
REFRESH-INTERVAL;VALUE=DURATION:PT1H
X-Robots-Tag:noindex
X-PUBLISHED-TTL:PT1H
BEGIN:VTIMEZONE
TZID:Europe/Berlin
BEGIN:DAYLIGHT
TZOFFSETFROM:+0100
TZOFFSETTO:+0200
TZNAME:CEST
DTSTART:20250330T010000
END:DAYLIGHT
BEGIN:STANDARD
TZOFFSETFROM:+0200
TZOFFSETTO:+0100
TZNAME:CET
DTSTART:20251026T010000
END:STANDARD
BEGIN:DAYLIGHT
TZOFFSETFROM:+0100
TZOFFSETTO:+0200
TZNAME:CEST
DTSTART:20260329T010000
END:DAYLIGHT
BEGIN:STANDARD
TZOFFSETFROM:+0200
TZOFFSETTO:+0100
TZNAME:CET
DTSTART:20261025T010000
END:STANDARD
BEGIN:DAYLIGHT
TZOFFSETFROM:+0100
TZOFFSETTO:+0200
TZNAME:CEST
DTSTART:20270328T010000
END:DAYLIGHT
BEGIN:STANDARD
TZOFFSETFROM:+0200
TZOFFSETTO:+0100
TZNAME:CET
DTSTART:20271031T010000
END:STANDARD
END:VTIMEZONE
BEGIN:VEVENT
DTSTART;TZID=Europe/Berlin:20260424T200000
DTEND;TZID=Europe/Berlin:20260424T223000
DTSTAMP:20260424T013645
CREATED:20260219T132418Z
LAST-MODIFIED:20260316T103245Z
UID:17995-1777060800-1777069800@shop.westtor.de
SUMMARY:FRÜHLINGSTANZ - Tanzabend mit Livemusik und Anleitung
DESCRIPTION:Einlass:  19:30 Uhr  Beginn:  ca. 20:00 Uhr \nMan muss keine Erfahrung im Tanzen haben\, um bei diesen Volkstänzen mitzumachen. Freude am Tanzen reicht vollkommen aus. \nDas „Trio ZAKK“ und „ Le Bal des Ablettes“ führt musikalisch durch den Abend.  Josef Zapf wird die Tänze humorvoll\, zielorientiert und nachhaltig vortanzen und anleiten.
URL:https://shop.westtor.de/event/fruehlingstanz-tanzabend-mit-livemusik-und-anleitung/
LOCATION:Westtorhalle\, Prof-Becker-Weg 12\, Seehausen\, Bayern\, 82418\, Deutschland
END:VEVENT
END:VCALENDAR