BEGIN:VCALENDAR
VERSION:2.0
PRODID:-//Westtor-Shop - ECPv6.15.20//NONSGML v1.0//EN
CALSCALE:GREGORIAN
METHOD:PUBLISH
X-WR-CALNAME:Westtor-Shop
X-ORIGINAL-URL:https://shop.westtor.de
X-WR-CALDESC:Veranstaltungen für Westtor-Shop
REFRESH-INTERVAL;VALUE=DURATION:PT1H
X-Robots-Tag:noindex
X-PUBLISHED-TTL:PT1H
BEGIN:VTIMEZONE
TZID:Europe/Berlin
BEGIN:DAYLIGHT
TZOFFSETFROM:+0100
TZOFFSETTO:+0200
TZNAME:CEST
DTSTART:20250330T010000
END:DAYLIGHT
BEGIN:STANDARD
TZOFFSETFROM:+0200
TZOFFSETTO:+0100
TZNAME:CET
DTSTART:20251026T010000
END:STANDARD
BEGIN:DAYLIGHT
TZOFFSETFROM:+0100
TZOFFSETTO:+0200
TZNAME:CEST
DTSTART:20260329T010000
END:DAYLIGHT
BEGIN:STANDARD
TZOFFSETFROM:+0200
TZOFFSETTO:+0100
TZNAME:CET
DTSTART:20261025T010000
END:STANDARD
BEGIN:DAYLIGHT
TZOFFSETFROM:+0100
TZOFFSETTO:+0200
TZNAME:CEST
DTSTART:20270328T010000
END:DAYLIGHT
BEGIN:STANDARD
TZOFFSETFROM:+0200
TZOFFSETTO:+0100
TZNAME:CET
DTSTART:20271031T010000
END:STANDARD
END:VTIMEZONE
BEGIN:VEVENT
DTSTART;TZID=Europe/Berlin:20260425T203000
DTEND;TZID=Europe/Berlin:20260425T223000
DTSTAMP:20260425T030634
CREATED:20260206T091233Z
LAST-MODIFIED:20260316T103236Z
UID:17881-1777149000-1777156200@shop.westtor.de
SUMMARY:LYCA - Psychedelic Rock
DESCRIPTION:Eintritt:  20:00 Uhr  Beginn: ca. 20:30 Uhr \nMit ihrem Nachfolgewerk „Lyca“ hält die sechsköpfige Band fest\, was sie ausmacht: ein rauschhaftes Erlebnis\, tief verwurzelt im Geist des Rock-’n‘-Rolls vergangener Tage. \nSie beschwören die psychedelischen Hymnen der späten Sechziger und frühen Siebziger herauf und verweben sie mit Latin gefärbten Rhythmen\, die Geist und Körper in Schwingung versetzen. \n 
URL:https://shop.westtor.de/event/lyca-psychedelic-rock/
LOCATION:Westtorhalle\, Prof-Becker-Weg 12\, Seehausen\, Bayern\, 82418\, Deutschland
END:VEVENT
END:VCALENDAR