BEGIN:VCALENDAR
VERSION:2.0
PRODID:-//Westtor-Shop - ECPv6.15.20//NONSGML v1.0//EN
CALSCALE:GREGORIAN
METHOD:PUBLISH
X-ORIGINAL-URL:https://shop.westtor.de
X-WR-CALDESC:Veranstaltungen für Westtor-Shop
REFRESH-INTERVAL;VALUE=DURATION:PT1H
X-Robots-Tag:noindex
X-PUBLISHED-TTL:PT1H
BEGIN:VTIMEZONE
TZID:Europe/Berlin
BEGIN:DAYLIGHT
TZOFFSETFROM:+0100
TZOFFSETTO:+0200
TZNAME:CEST
DTSTART:20230326T010000
END:DAYLIGHT
BEGIN:STANDARD
TZOFFSETFROM:+0200
TZOFFSETTO:+0100
TZNAME:CET
DTSTART:20231029T010000
END:STANDARD
BEGIN:DAYLIGHT
TZOFFSETFROM:+0100
TZOFFSETTO:+0200
TZNAME:CEST
DTSTART:20240331T010000
END:DAYLIGHT
BEGIN:STANDARD
TZOFFSETFROM:+0200
TZOFFSETTO:+0100
TZNAME:CET
DTSTART:20241027T010000
END:STANDARD
BEGIN:DAYLIGHT
TZOFFSETFROM:+0100
TZOFFSETTO:+0200
TZNAME:CEST
DTSTART:20250330T010000
END:DAYLIGHT
BEGIN:STANDARD
TZOFFSETFROM:+0200
TZOFFSETTO:+0100
TZNAME:CET
DTSTART:20251026T010000
END:STANDARD
END:VTIMEZONE
BEGIN:VEVENT
DTSTART;TZID=Europe/Berlin:20240301T220000
DTEND;TZID=Europe/Berlin:20240301T220000
DTSTAMP:20260420T213513
CREATED:20240109T165711Z
LAST-MODIFIED:20240223T081829Z
UID:7107-1709330400-1709330400@shop.westtor.de
SUMMARY:NICOLA FÖRG - ZORNIGE SÖHNE
DESCRIPTION:Einlass:  19:30 Uhr    Beginn:  20:00 Uhr \nMit ZORNiGE SÖHNE veröffentlicht SPIEGEL-Bestseller-Autorin Nicola Förg den 15. Band ihrer Alpenkrimi-Reihe und verbindet erneut aktuelle politische Themen geschickt mit einem raffinierten Verbrechen. \n 
URL:https://shop.westtor.de/event/nicola-foerg-zornige-soehne/
LOCATION:Westtorhalle\, Prof-Becker-Weg 12\, Seehausen\, Bayern\, 82418\, Deutschland
END:VEVENT
BEGIN:VEVENT
DTSTART;TZID=Europe/Berlin:20240309T203000
DTEND;TZID=Europe/Berlin:20240309T223000
DTSTAMP:20260420T213513
CREATED:20240109T170647Z
LAST-MODIFIED:20240109T170937Z
UID:7111-1710016200-1710023400@shop.westtor.de
SUMMARY:GOBILOVE - Psychedelic Pop-Rock
DESCRIPTION:Einlass:  20:00 Uhr   Beginn  20:30 Uhr \nEine Band\, die den Spirit der 70er Jahre authentisch ins Hier und Jetzt holt. Die ausdrucksstarke Stimme des Sängers Florian Elsner sticht ins Mark\, beherrscht sanfte Nuancen und schreiendes Explodieren.
URL:https://shop.westtor.de/event/gobilove-psychedelic-pop-rock-2/
LOCATION:Westtorhalle\, Prof-Becker-Weg 12\, Seehausen\, Bayern\, 82418\, Deutschland
END:VEVENT
BEGIN:VEVENT
DTSTART;TZID=Europe/Berlin:20240315T193000
DTEND;TZID=Europe/Berlin:20240315T213000
DTSTAMP:20260420T213513
CREATED:20240109T171632Z
LAST-MODIFIED:20240109T171911Z
UID:7115-1710531000-1710538200@shop.westtor.de
SUMMARY:ANATOL REGNIER: SELTSAM SIND DES GLÜCKES LAUNEN - DIE WELT DES FRANK WEDEKIND
DESCRIPTION:Einlass:  19:00 Uhr   Beginn:  19:30 Uhr \nLesung mit Musik \nAnatol Regnier ist Schriftsteller\, Chansonsänger und Gitarrist – und Enkel des berühmten Schriftstellers Frank Wedekind.
URL:https://shop.westtor.de/event/anatol-regnier-seltsam-sind-des-glueckes-launen-die-welt-des-frank-wedekind/
LOCATION:Westtorhalle\, Prof-Becker-Weg 12\, Seehausen\, Bayern\, 82418\, Deutschland
END:VEVENT
BEGIN:VEVENT
DTSTART;TZID=Europe/Berlin:20240317T143000
DTEND;TZID=Europe/Berlin:20240317T163000
DTSTAMP:20260420T213513
CREATED:20240109T172330Z
LAST-MODIFIED:20240109T172330Z
UID:7119-1710685800-1710693000@shop.westtor.de
SUMMARY:CAFÉ UNTERZUCKER - Musik für humorbegabte Familien
DESCRIPTION:Einlass:  14:00 Uhr   Beginn:  14:30 Uhr \nMusik für humorbegabte Familien \nFREU DICH MAL! So heißt das aktuelle Album (erschienen bei Trikont) von Café Unterzucker\, welches die Combo um Richard Oehmann in der Westtorhalle vorstellt. \n 
URL:https://shop.westtor.de/event/cafe-unterzucker-musik-fuer-humorbegabte-familien/
LOCATION:Westtorhalle\, Prof-Becker-Weg 12\, Seehausen\, Bayern\, 82418\, Deutschland
END:VEVENT
BEGIN:VEVENT
DTSTART;TZID=Europe/Berlin:20240322T193000
DTEND;TZID=Europe/Berlin:20240322T233000
DTSTAMP:20260420T213513
CREATED:20240109T173008Z
LAST-MODIFIED:20240318T064311Z
UID:7123-1711135800-1711150200@shop.westtor.de
SUMMARY:DA SIMMAL BAND & EXPRESS BRASS BAND - Benefizkonzert "30 Jahre Kunterbunt e.V."
DESCRIPTION:Einlass:  19:00 Uhr   Beginn:  19:30 Uhr \nBenefizkonzert „30 Jahre Kunterbunt e.V.“ \nCharmant\, wenn man einfach nur zum Tanzen gehen kann\, und dabei schon Gutes tut!
URL:https://shop.westtor.de/event/da-simmal-band-express-brass-band-benefizkonzert-30-jahre-kunterbunt-e-v/
LOCATION:Westtorhalle\, Prof-Becker-Weg 12\, Seehausen\, Bayern\, 82418\, Deutschland
END:VEVENT
END:VCALENDAR